{"text_format":"1","workbook":"xlsx","n_sheets":5,"sheets":["SOAL","S","Peserta","HASIL","Sheet1"],"not_rendered":{"charts":0,"images":0,"macros":1,"external_links":0,"defined_names":2,"comments":0,"pivot_tables":0},"unopened":[],"bounds":{"document_bytes":16777216,"sheet_cells":100000,"rows_first":2000,"rows_last":500,"rows_between":2000,"halvings":0,"cell_chars":16384,"cell_head_chars":4096},"cells_cut":0,"cells_raw":0,"read":"whole","date_system":"1900"}

{"sheet":"SOAL","index":0,"n_rows":48,"n_cols":27,"rows_kept":48,"cut":false,"hidden":false,"merged":[[7,3,7,4],[7,5,7,7],[13,2,13,7],[0,16,33,16]]}
[null,null,"Server :","http://exam.mtsn2karanganyar.belajarku.id/",null,null,null,null,null,"1.","C","35.",null,"69.",null,null,"BOBOT","1.",1,"35.",1,"69.",1]
[null,null,"Kode Test :","BI 7",null,null,null,null,null,{"$f":"LEFT(J1,LEN(J1)-1)+1&\".\"","v":"2."},"E",{"$f":"LEFT(L1,LEN(L1)-1)+1&\".\"","v":"36."},null,"70.",null,null,null,{"$f":"LEFT(R1,LEN(R1)-1)+1&\".\"","v":"2."},1,{"$f":"LEFT(T1,LEN(T1)-1)+1&\".\"","v":"36."},1,{"$f":"LEFT(V1,LEN(V1)-1)+1&\".\"","v":"70."},1]
[null,null,"Nama Test :","UJIAN SEMESTER",null,null,null,null,null,"3.","B","37.",null,"71.",null,null,null,{"$f":"LEFT(R2,LEN(R2)-1)+1&\".\"","v":"3."},1,{"$f":"LEFT(T2,LEN(T2)-1)+1&\".\"","v":"37."},1,{"$f":"LEFT(V2,LEN(V2)-1)+1&\".\"","v":"71."},1,null,null,null,{"$f":"COUNTA(C10:C1048576)","v":37}]
[null,null,"Status :","SIMULASI MANDIRI",null,null,null,null,null,"4.","B","38.",null,"72.",null,null,null,{"$f":"LEFT(R3,LEN(R3)-1)+1&\".\"","v":"4."},1,{"$f":"LEFT(T3,LEN(T3)-1)+1&\".\"","v":"38."},1,{"$f":"LEFT(V3,LEN(V3)-1)+1&\".\"","v":"72."},1]
[null,null,"Sub Test :","Ujian Digital",null,null,null,null,null,"5.","A","39.",null,"73.",null,null,null,{"$f":"LEFT(R4,LEN(R4)-1)+1&\".\"","v":"5."},1,{"$f":"LEFT(T4,LEN(T4)-1)+1&\".\"","v":"39."},1,{"$f":"LEFT(V4,LEN(V4)-1)+1&\".\"","v":"73."},1]
[null,null,"Tanggal :","27","-","05","-","2019",null,"6.","A","40.",null,"74.",null,null,null,{"$f":"LEFT(R5,LEN(R5)-1)+1&\".\"","v":"6."},1,{"$f":"LEFT(T5,LEN(T5)-1)+1&\".\"","v":"40."},1,{"$f":"LEFT(V5,LEN(V5)-1)+1&\".\"","v":"74."},1]
[null,null,"Waktu Test :","08",":","00",null,null,null,"7.",null,"41.",null,"75.",null,null,null,{"$f":"LEFT(R6,LEN(R6)-1)+1&\".\"","v":"7."},1,{"$f":"LEFT(T6,LEN(T6)-1)+1&\".\"","v":"41."},1,{"$f":"LEFT(V6,LEN(V6)-1)+1&\".\"","v":"75."},1]
[null,null,"Alokasi :",120,null,"Asia/Makassar",null,null,null,"8.",null,"42.",null,"76.",null,null,null,{"$f":"LEFT(R7,LEN(R7)-1)+1&\".\"","v":"8."},1,{"$f":"LEFT(T7,LEN(T7)-1)+1&\".\"","v":"42."},1,{"$f":"LEFT(V7,LEN(V7)-1)+1&\".\"","v":"76."},1]
[null,null,"Jumlah Soal :",6,null,null,null,null,null,"9.",null,"43.",null,"77.",null,null,null,{"$f":"LEFT(R8,LEN(R8)-1)+1&\".\"","v":"9."},1,{"$f":"LEFT(T8,LEN(T8)-1)+1&\".\"","v":"43."},1,{"$f":"LEFT(V8,LEN(V8)-1)+1&\".\"","v":"77."},1]
[null,null,"Yang Harus Dikerjakan :",6,null,null,null,null,null,"10.",null,"44.",null,"78.",null,null,null,{"$f":"LEFT(R9,LEN(R9)-1)+1&\".\"","v":"10."},1,{"$f":"LEFT(T9,LEN(T9)-1)+1&\".\"","v":"44."},1,{"$f":"LEFT(V9,LEN(V9)-1)+1&\".\"","v":"78."},1]
[null,null,"Acak :",1,null,null,null,null,null,"11.",null,"45.",null,"79.",null,null,null,{"$f":"LEFT(R10,LEN(R10)-1)+1&\".\"","v":"11."},1,{"$f":"LEFT(T10,LEN(T10)-1)+1&\".\"","v":"45."},1,{"$f":"LEFT(V10,LEN(V10)-1)+1&\".\"","v":"79."},1]
[null,null,null,null,null,null,null,null,null,"12.",null,"46.",null,"80.",null,null,null,{"$f":"LEFT(R11,LEN(R11)-1)+1&\".\"","v":"12."},1,{"$f":"LEFT(T11,LEN(T11)-1)+1&\".\"","v":"46."},1,{"$f":"LEFT(V11,LEN(V11)-1)+1&\".\"","v":"80."},1]
[null,null,null,null,null,null,null,null,null,"13.",null,"47.",null,"81.",null,null,null,{"$f":"LEFT(R12,LEN(R12)-1)+1&\".\"","v":"13."},1,{"$f":"LEFT(T12,LEN(T12)-1)+1&\".\"","v":"47."},1,{"$f":"LEFT(V12,LEN(V12)-1)+1&\".\"","v":"81."},1]
[null,null,"GROUPING",null,null,null,null,null,null,"14.",null,"48.",null,"82.",null,null,null,{"$f":"LEFT(R13,LEN(R13)-1)+1&\".\"","v":"14."},1,{"$f":"LEFT(T13,LEN(T13)-1)+1&\".\"","v":"48."},1,{"$f":"LEFT(V13,LEN(V13)-1)+1&\".\"","v":"82."},1]
[null,null,"1.",null,"35.",null,"69.",null,null,"15.",null,"49.",null,"83.",null,null,null,{"$f":"LEFT(R14,LEN(R14)-1)+1&\".\"","v":"15."},1,{"$f":"LEFT(T14,LEN(T14)-1)+1&\".\"","v":"49."},1,{"$f":"LEFT(V14,LEN(V14)-1)+1&\".\"","v":"83."},1]
[null,null,{"$f":"LEFT(C15,LEN(C15)-1)+1&\".\"","v":"2."},null,{"$f":"LEFT(E15,LEN(E15)-1)+1&\".\"","v":"36."},null,{"$f":"LEFT(G15,LEN(G15)-1)+1&\".\"","v":"70."},null,null,"16.",null,"50.",null,"84.",null,null,null,{"$f":"LEFT(R15,LEN(R15)-1)+1&\".\"","v":"16."},1,{"$f":"LEFT(T15,LEN(T15)-1)+1&\".\"","v":"50."},1,{"$f":"LEFT(V15,LEN(V15)-1)+1&\".\"","v":"84."},1]
[null,null,{"$f":"LEFT(C16,LEN(C16)-1)+1&\".\"","v":"3."},null,"37.",null,"71.",null,null,"17.",null,"51.",null,"85.",null,null,null,{"$f":"LEFT(R16,LEN(R16)-1)+1&\".\"","v":"17."},1,{"$f":"LEFT(T16,LEN(T16)-1)+1&\".\"","v":"51."},1,{"$f":"LEFT(V16,LEN(V16)-1)+1&\".\"","v":"85."},1]
[null,null,"4.",null,"38.",null,"72.",null,null,"18.",null,"52.",null,"86.",null,null,null,{"$f":"LEFT(R17,LEN(R17)-1)+1&\".\"","v":"18."},1,{"$f":"LEFT(T17,LEN(T17)-1)+1&\".\"","v":"52."},1,{"$f":"LEFT(V17,LEN(V17)-1)+1&\".\"","v":"86."},1]
[null,null,"5.",null,"39.",null,"73.",null,null,"19.",null,"53.",null,"87.",null,null,null,{"$f":"LEFT(R18,LEN(R18)-1)+1&\".\"","v":"19."},1,{"$f":"LEFT(T18,LEN(T18)-1)+1&\".\"","v":"53."},1,{"$f":"LEFT(V18,LEN(V18)-1)+1&\".\"","v":"87."},1]
[null,null,"6.",null,"40.",null,"74.",null,null,"20.",null,"54.",null,"88.",null,null,null,{"$f":"LEFT(R19,LEN(R19)-1)+1&\".\"","v":"20."},1,{"$f":"LEFT(T19,LEN(T19)-1)+1&\".\"","v":"54."},1,{"$f":"LEFT(V19,LEN(V19)-1)+1&\".\"","v":"88."},1]
[null,null,"7.",null,"41.",null,"75.",null,null,"21.",null,"55.",null,"89.",null,null,null,{"$f":"LEFT(R20,LEN(R20)-1)+1&\".\"","v":"21."},1,{"$f":"LEFT(T20,LEN(T20)-1)+1&\".\"","v":"55."},1,{"$f":"LEFT(V20,LEN(V20)-1)+1&\".\"","v":"89."},1]
[null,null,"8.",null,"42.",null,"76.",null,null,"22.",null,"56.",null,"90.",null,null,null,{"$f":"LEFT(R21,LEN(R21)-1)+1&\".\"","v":"22."},1,{"$f":"LEFT(T21,LEN(T21)-1)+1&\".\"","v":"56."},1,{"$f":"LEFT(V21,LEN(V21)-1)+1&\".\"","v":"90."},1]
[null,null,"9.",null,"43.",null,"77.",null,null,"23.",null,"57.",null,"91.",null,null,null,{"$f":"LEFT(R22,LEN(R22)-1)+1&\".\"","v":"23."},1,{"$f":"LEFT(T22,LEN(T22)-1)+1&\".\"","v":"57."},1,{"$f":"LEFT(V22,LEN(V22)-1)+1&\".\"","v":"91."},1]
[null,null,"10.",null,"44.",null,"78.",null,null,"24.",null,"58.",null,"92.",null,null,null,{"$f":"LEFT(R23,LEN(R23)-1)+1&\".\"","v":"24."},1,{"$f":"LEFT(T23,LEN(T23)-1)+1&\".\"","v":"58."},1,{"$f":"LEFT(V23,LEN(V23)-1)+1&\".\"","v":"92."},1]
[null,null,"11.",null,"45.",null,"79.",null,null,"25.",null,"59.",null,"93.",null,null,null,{"$f":"LEFT(R24,LEN(R24)-1)+1&\".\"","v":"25."},1,{"$f":"LEFT(T24,LEN(T24)-1)+1&\".\"","v":"59."},1,{"$f":"LEFT(V24,LEN(V24)-1)+1&\".\"","v":"93."},1]
[null,null,"12.",null,"46.",null,"80.",null,null,{"$f":"LEFT(J25,LEN(J25)-1)+1&\".\"","v":"26."},null,{"$f":"LEFT(L25,LEN(L25)-1)+1&\".\"","v":"60."},null,{"$f":"LEFT(N25,LEN(N25)-1)+1&\".\"","v":"94."},null,null,null,"26.",1,"60.",1,"94.",1]
[null,null,{"$f":"LEFT(C26,LEN(C26)-1)+1&\".\"","v":"13."},null,"47.",null,"81.",null,null,"27.",null,"61.",null,"95.",null,null,null,"27.",1,"61.",1,"95.",1]
[null,null,"14.",null,"48.",null,"82.",null,null,"28.",null,"62.",null,"96.",null,null,null,"28.",1,"62.",1,"96.",1]
[null,null,"15.",null,"49.",null,"83.",null,null,"29.",null,"63.",null,"97.",null,null,null,"29.",1,"63.",1,"97.",1]
[null,null,"16.",null,"50.",null,"84.",null,null,"30.",null,"64.",null,"98.",null,null,null,"30.",1,"64.",1,"98.",1]
[null,null,"17.",null,"51.",null,"85.",null,null,"31.",null,"65.",null,"99.",null,null,null,"31.",1,"65.",1,"99.",1]
[null,null,"18.",null,"52.",null,"86.",null,null,"32.",null,"66.",null,"100.",null,null,null,"32.",1,"66.",1,"100.",1]
[null,null,"19.",null,"53.",null,"87.",null,null,"33.",null,"67.",null,null,null,null,null,"33.",1,"67.",1]
[null,null,"20.",null,"54.",null,"88.",null,null,"34.",null,"68.",null,null,null,null,null,"34.",1,"68.",1]
[null,null,{"$f":"LEFT(C34,LEN(C34)-1)+1&\".\"","v":"21."},null,{"$f":"LEFT(E34,LEN(E34)-1)+1&\".\"","v":"55."},null,{"$f":"LEFT(G34,LEN(G34)-1)+1&\".\"","v":"89."}]
[null,null,"22.",null,"56.",null,"90."]
[null,null,"23.",null,"57.",null,"91."]
[null,null,"24.",null,"58.",null,"92."]
[null,null,"25.",null,"59.",null,"93."]
[null,null,"26.",null,"60.",null,"94."]
[null,null,"27.",null,"61.",null,"95."]
[null,null,"28.",null,"62.",null,"96."]
[null,null,"29.",null,"63.",null,"97."]
[null,null,"30.",null,"64.",null,"98."]
[null,null,"31.",null,"65.",null,"99."]
[null,null,"32.",null,{"$f":"LEFT(E45,LEN(E45)-1)+1&\".\"","v":"66."},null,{"$f":"LEFT(G45,LEN(G45)-1)+1&\".\"","v":"100."}]
[null,null,{"$f":"LEFT(C46,LEN(C46)-1)+1&\".\"","v":"33."},null,{"$f":"LEFT(E46,LEN(E46)-1)+1&\".\"","v":"67."}]
[null,null,"34.",null,"68."]

{"sheet":"S","index":1,"n_rows":110,"n_cols":10,"rows_kept":110,"cut":false,"hidden":true,"merged":[]}
["SEDANG PROSES HARAP TUNGGU ...",null,null,{"$f":"+SOAL!D1","v":"http://exam.mtsn2karanganyar.belajarku.id/"}]
[null,null,"Kode Test :",{"$f":"+SOAL!D2","v":"BI 7"}]
[null,null,"Nama Test :",{"$f":"+SOAL!D3","v":"UJIAN SEMESTER"}]
[null,null,"Status :",{"$f":"+SOAL!D4","v":"SIMULASI MANDIRI"}]
[null,null,"Sub Test :",{"$f":"+SOAL!D5","v":"Ujian Digital"}]
[null,null,"Tanggal : ",{"$f":"+SOAL!D6","v":"27"}]
[null,null,"Waktu : ",{"$f":"+SOAL!C7","v":"Waktu Test :"},"WIB"]
[null,null,"Alokasi :",{"$f":"+SOAL!D8","v":120}]
[]
[null,"No.","Soal","GROUP","A","B","C","D","E","BENAR"]
[null,null,null,null,null,null,null,null,null,"X"]
[null,null,null,null,null,null,null,null,null,"X"]
[null,null,null,null,null,null,null,null,null,"X"]
[null,null,null,null,null,null,null,null,null,"X"]
[null,null,null,null,null,null,null,null,null,"X"]
[null,null,null,null,null,null,null,null,null,"X"]
[null,null,null,null,null,null,null,null,null,"X"]
[null,null,null,null,null,null,null,null,null,"X"]
[null,null,null,null,null,null,null,null,null,"X"]
[null,null,null,null,null,null,null,null,null,"X"]
[null,null,null,null,null,null,null,null,null,"X"]
[null,null,null,null,null,null,null,null,null,"X"]
[null,null,null,null,null,null,null,null,null,"X"]
[null,null,null,null,null,null,null,null,null,"X"]
[null,null,null,null,null,null,null,null,null,"X"]
[null,null,null,null,null,null,null,null,null,"X"]
[null,null,null,null,null,null,null,null,null,"X"]
[null,null,null,null,null,null,null,null,null,"X"]
[null,null,null,null,null,null,null,null,null,"X"]
[null,null,null,null,null,null,null,null,null,"X"]
[null,null,null,null,null,null,null,null,null,"X"]
[null,null,null,null,null,null,null,null,null,"X"]
[null,null,null,null,null,null,null,null,null,"X"]
[null,null,null,null,null,null,null,null,null,"X"]
[null,null,null,null,null,null,null,null,null,"X"]
[null,null,null,null,null,null,null,null,null,"X"]
[null,null,null,null,null,null,null,null,null,"X"]
[null,null,null,null,null,null,null,null,null,"X"]
[null,null,null,null,null,null,null,null,null,"X"]
[null,null,null,null,null,null,null,null,null,"X"]
[null,null,null,null,null,null,null,null,null,"X"]
[null,null,null,null,null,null,null,null,null,"X"]
[null,null,null,null,null,null,null,null,null,"X"]
[null,null,null,null,null,null,null,null,null,"X"]
[null,null,null,null,null,null,null,null,null,"X"]
[null,null,null,null,null,null,null,null,null,"X"]
[null,null,null,null,null,null,null,null,null,"X"]
[null,null,null,null,null,null,null,null,null,"X"]
[null,null,null,null,null,null,null,null,null,"X"]
[null,null,null,null,null,null,null,null,null,"X"]
[null,null,null,null,null,null,null,null,null,"X"]
[null,null,null,null,null,null,null,null,null,"X"]
[null,null,null,null,null,null,null,null,null,"X"]
[null,null,null,null,null,null,null,null,null,"X"]
[null,null,null,null,null,null,null,null,null,"X"]
[null,null,null,null,null,null,null,null,null,"X"]
[null,null,null,null,null,null,null,null,null,"X"]
[null,null,null,null,null,null,null,null,null,"X"]
[null,null,null,null,null,null,null,null,null,"X"]
[null,null,null,null,null,null,null,null,null,"X"]
[null,null,null,null,null,null,null,null,null,"X"]
[null,null,null,null,null,null,null,null,null,"X"]
[null,null,null,null,null,null,null,null,null,"X"]
[null,null,null,null,null,null,null,null,null,"X"]
[null,null,null,null,null,null,null,null,null,"X"]
[null,null,null,null,null,null,null,null,null,"X"]
[null,null,null,null,null,null,null,null,null,"X"]
[null,null,null,null,null,null,null,null,null,"X"]
[null,null,null,null,null,null,null,null,null,"X"]
[null,null,null,null,null,null,null,null,null,"X"]
[null,null,null,null,null,null,null,null,null,"X"]
[null,null,null,null,null,null,null,null,null,"X"]
[null,null,null,null,null,null,null,null,null,"X"]
[null,null,null,null,null,null,null,null,null,"X"]
[null,null,null,null,null,null,null,null,null,"X"]
[null,null,null,null,null,null,null,null,null,"X"]
[null,null,null,null,null,null,null,null,null,"X"]
[null,null,null,null,null,null,null,null,null,"X"]
[null,null,null,null,null,null,null,null,null,"X"]
[null,null,null,null,null,null,null,null,null,"X"]
[null,null,null,null,null,null,null,null,null,"X"]
[null,null,null,null,null,null,null,null,null,"X"]
[null,null,null,null,null,null,null,null,null,"X"]
[null,null,null,null,null,null,null,null,null,"X"]
[null,null,null,null,null,null,null,null,null,"X"]
[null,null,null,null,null,null,null,null,null,"X"]
[null,null,null,null,null,null,null,null,null,"X"]
[null,null,null,null,null,null,null,null,null,"X"]
[null,null,null,null,null,null,null,null,null,"X"]
[null,null,null,null,null,null,null,null,null,"X"]
[null,null,null,null,null,null,null,null,null,"X"]
[null,null,null,null,null,null,null,null,null,"X"]
[null,null,null,null,null,null,null,null,null,"X"]
[null,null,null,null,null,null,null,null,null,"X"]
[null,null,null,null,null,null,null,null,null,"X"]
[null,null,null,null,null,null,null,null,null,"X"]
[null,null,null,null,null,null,null,null,null,"X"]
[null,null,null,null,null,null,null,null,null,"X"]
[null,null,null,null,null,null,null,null,null,"X"]
[null,null,null,null,null,null,null,null,null,"X"]
[null,null,null,null,null,null,null,null,null,"X"]
[null,null,null,null,null,null,null,null,null,"X"]
[null,null,null,null,null,null,null,null,null,"X"]
[null,null,null,null,null,null,null,null,null,"X"]
[null,null,null,null,null,null,null,null,null,"X"]
[null,null,null,null,null,null,null,null,null,"X"]
[null,null,null,null,null,null,null,null,null,"X"]
[null,null,null,null,null,null,null,null,null,"X"]
[null,null,null,null,null,null,null,null,null,"X"]
[null,null,null,null,null,null,null,null,null,"X"]

{"sheet":"Peserta","index":2,"n_rows":53,"n_cols":5,"rows_kept":53,"cut":false,"hidden":false,"merged":[]}
[]
[null,null,"Jumlah Peserta :",{"$f":"COUNTA(D4:D1048576)","v":50}]
[null,"NIS","Username","Nama","Password"]
[null,1,1,1,1]
[null,2,2,2,2]
[null,3,3,3,3]
[null,4,4,4,4]
[null,5,5,5,5]
[null,6,6,6,6]
[null,7,7,7,7]
[null,8,8,8,8]
[null,9,9,9,9]
[null,10,10,10,10]
[null,11,11,11,11]
[null,12,12,12,12]
[null,13,13,13,13]
[null,14,14,14,14]
[null,15,15,15,15]
[null,16,16,16,16]
[null,17,17,17,17]
[null,18,18,18,18]
[null,19,19,19,19]
[null,20,20,20,20]
[null,21,21,21,21]
[null,22,22,22,22]
[null,23,23,23,23]
[null,24,24,24,24]
[null,25,25,25,25]
[null,26,26,26,26]
[null,27,27,27,27]
[null,28,28,28,28]
[null,29,29,29,29]
[null,30,30,30,30]
[null,31,31,31,31]
[null,32,32,32,32]
[null,33,33,33,33]
[null,34,34,34,34]
[null,35,35,35,35]
[null,36,36,36,36]
[null,37,37,37,37]
[null,38,38,38,38]
[null,39,39,39,39]
[null,40,40,40,40]
[null,41,41,41,41]
[null,42,42,42,42]
[null,43,43,43,43]
[null,44,44,44,44]
[null,45,45,45,45]
[null,46,46,46,46]
[null,47,47,47,47]
[null,48,48,48,48]
[null,49,49,49,49]
[null,50,50,50,50]

{"sheet":"HASIL","index":3,"n_rows":4,"n_cols":108,"rows_kept":4,"cut":false,"hidden":false,"merged":[[0,6,1,6],[0,7,1,7],[0,0,1,0],[0,1,1,1],[0,2,1,2],[0,3,1,3],[0,4,1,4],[0,5,1,5]]}
["No","Status Upload","Nama Peserta","No. Peserta","Subtest Terakhir","Aktifitas Terakhir","Nilai","Status",1,{"$f":"I1+1","v":2},{"$f":"J1+1","v":3},4,5,6,7,8,9,10,11,12,13,14,15,16,17,18,19,20,21,22,23,24,25,26,27,28,29,30,31,32,33,34,35,36,37,38,39,40,41,42,43,44,45,46,47,48,49,50,51,52,53,54,55,56,57,58,59,60,61,62,63,64,65,66,{"$f":"BV1+1","v":67},68,69,70,71,72,73,74,75,76,77,78,79,80,81,82,83,84,85,86,87,88,89,90,91,92,93,94,95,96,97,98,99,100]
[null,null,null,null,null,null,null,null,{"$f":"SOAL!K1","v":"C"},{"$f":"SOAL!K2","v":"E"},{"$f":"SOAL!K3","v":"B"},{"$f":"SOAL!K4","v":"B"},{"$f":"SOAL!K5","v":"A"},{"$f":"SOAL!K6","v":"A"},{"$f":"SOAL!K7","v":0},{"$f":"SOAL!K8","v":0},{"$f":"SOAL!K9","v":0},{"$f":"SOAL!K10","v":0},{"$f":"SOAL!K11","v":0},{"$f":"SOAL!K12","v":0},{"$f":"SOAL!K13","v":0},{"$f":"SOAL!K14","v":0},{"$f":"SOAL!K15","v":0},{"$f":"SOAL!K16","v":0},{"$f":"SOAL!K17","v":0},{"$f":"SOAL!K18","v":0},{"$f":"SOAL!K19","v":0},{"$f":"SOAL!K20","v":0},{"$f":"SOAL!K21","v":0},{"$f":"SOAL!K22","v":0},{"$f":"SOAL!K23","v":0},{"$f":"SOAL!K24","v":0},{"$f":"SOAL!K25","v":0},{"$f":"SOAL!K26","v":0},{"$f":"SOAL!K27","v":0},{"$f":"SOAL!K28","v":0},{"$f":"SOAL!K29","v":0},{"$f":"SOAL!K30","v":0},{"$f":"SOAL!K31","v":0},{"$f":"SOAL!K32","v":0},{"$f":"SOAL!K33","v":0},{"$f":"SOAL!K34","v":0},{"$f":"SOAL!M1","v":0},{"$f":"SOAL!M2","v":0},{"$f":"SOAL!M3","v":0},{"$f":"SOAL!M4","v":0},{"$f":"SOAL!M5","v":0},{"$f":"SOAL!M6","v":0},{"$f":"SOAL!M7","v":0},{"$f":"SOAL!M8","v":0},{"$f":"SOAL!M9","v":0},{"$f":"SOAL!M10","v":0},{"$f":"SOAL!M11","v":0},{"$f":"SOAL!M12","v":0},{"$f":"SOAL!M13","v":0},{"$f":"SOAL!M14","v":0},{"$f":"SOAL!M15","v":0},{"$f":"SOAL!M16","v":0},{"$f":"SOAL!M17","v":0},{"$f":"SOAL!M18","v":0},{"$f":"SOAL!M19","v":0},{"$f":"SOAL!M20","v":0},{"$f":"SOAL!M21","v":0},{"$f":"SOAL!M22","v":0},{"$f":"SOAL!M23","v":0},{"$f":"SOAL!M24","v":0},{"$f":"SOAL!M25","v":0},{"$f":"SOAL!M26","v":0},{"$f":"SOAL!M27","v":0},{"$f":"SOAL!M28","v":0},{"$f":"SOAL!M29","v":0},{"$f":"SOAL!M30","v":0},{"$f":"SOAL!M31","v":0},{"$f":"SOAL!M32","v":0},{"$f":"SOAL!M33","v":0},{"$f":"SOAL!M34","v":0},{"$f":"SOAL!O1","v":0},{"$f":"SOAL!O2","v":0},{"$f":"SOAL!O3","v":0},{"$f":"SOAL!O4","v":0},{"$f":"SOAL!O5","v":0},{"$f":"SOAL!O6","v":0},{"$f":"SOAL!O7","v":0},{"$f":"SOAL!O8","v":0},{"$f":"SOAL!O9","v":0},{"$f":"SOAL!O10","v":0},{"$f":"SOAL!O11","v":0},{"$f":"SOAL!O12","v":0},{"$f":"SOAL!O13","v":0},{"$f":"SOAL!O14","v":0},{"$f":"SOAL!O15","v":0},{"$f":"SOAL!O16","v":0},{"$f":"SOAL!O17","v":0},{"$f":"SOAL!O18","v":0},{"$f":"SOAL!O19","v":0},{"$f":"SOAL!O20","v":0},{"$f":"SOAL!O21","v":0},{"$f":"SOAL!O22","v":0},{"$f":"SOAL!O23","v":0},{"$f":"SOAL!O24","v":0},{"$f":"SOAL!O25","v":0},{"$f":"SOAL!O26","v":0},{"$f":"SOAL!O27","v":0},{"$f":"SOAL!O28","v":0},{"$f":"SOAL!O29","v":0},{"$f":"SOAL!O30","v":0},{"$f":"SOAL!O31","v":0},{"$f":"SOAL!O32","v":0}]
[1,"Auto",17,17,"GEOGRAFI 12","2019-04-29T09:14:33",33.33,"Selesai","A","C","B","B","D","B"]
[1,"Auto",9,9,"GEOGRAFI 12","2019-04-29T09:20:23",33.33,"Selesai","C","B","E","E","C","A"]

{"sheet":"Sheet1","index":4,"n_rows":0,"n_cols":0,"rows_kept":0,"cut":false,"hidden":false,"merged":[]}